BEGIN:VCALENDAR
VERSION:2.0
PRODID:-//Sabre//Sabre VObject 4.5.8//EN
CALSCALE:GREGORIAN
BEGIN:VEVENT
UID:criticalmass-one-renningen-1761845400
DTSTAMP:20260422T055347Z
SUMMARY:Critical Mass Renningen 30.10.2025
DTSTART;TZID=Europe/Berlin:20251030T183000
DTEND;TZID=Europe/Berlin:20251030T203000
LOCATION:Ernst-Bauer-Platz
GEO:48.767420;8.935672
URL;VALUE=URI:https://criticalmass.in/renningen/2025-10-30
END:VEVENT
END:VCALENDAR
