BEGIN:VCALENDAR
VERSION:2.0
PRODID:-//Sabre//Sabre VObject 4.5.8//EN
CALSCALE:GREGORIAN
BEGIN:VEVENT
UID:criticalmass-one-renningen-1758817800
DTSTAMP:20260422T114943Z
SUMMARY:Critical Mass Renningen 25.09.2025
DTSTART;TZID=Europe/Berlin:20250925T183000
DTEND;TZID=Europe/Berlin:20250925T203000
LOCATION:Ernst-Bauer-Platz
GEO:48.767420;8.935672
URL;VALUE=URI:https://criticalmass.in/renningen/2025-09-25
END:VEVENT
END:VCALENDAR
