BEGIN:VCALENDAR
VERSION:2.0
PRODID:-//Sabre//Sabre VObject 4.5.8//EN
CALSCALE:GREGORIAN
BEGIN:VEVENT
UID:criticalmass-one-renningen-1745512200
DTSTAMP:20260422T113857Z
SUMMARY:Critical Mass Renningen 24.04.2025
DTSTART;TZID=Europe/Berlin:20250424T183000
DTEND;TZID=Europe/Berlin:20250424T203000
LOCATION:Ernst-Bauer-Platz
GEO:48.767420;8.935672
URL;VALUE=URI:https://criticalmass.in/renningen/2025-04-24
END:VEVENT
END:VCALENDAR
