BEGIN:VCALENDAR
VERSION:2.0
PRODID:-//Sabre//Sabre VObject 4.5.8//EN
CALSCALE:GREGORIAN
BEGIN:VEVENT
UID:criticalmass-one-renningen-1738258200
DTSTAMP:20260424T092308Z
SUMMARY:Critical Mass Renningen 30.01.2025
DTSTART;TZID=Europe/Berlin:20250130T183000
DTEND;TZID=Europe/Berlin:20250130T203000
LOCATION:Ernst-Bauer-Platz
GEO:48.767420;8.935672
URL;VALUE=URI:https://criticalmass.in/renningen/2025-01-30
END:VEVENT
END:VCALENDAR
