BEGIN:VCALENDAR
VERSION:2.0
PRODID:-//Sabre//Sabre VObject 4.5.8//EN
CALSCALE:GREGORIAN
BEGIN:VEVENT
UID:criticalmass-one-renningen-1695918600
DTSTAMP:20260422T202435Z
SUMMARY:Critical Mass Renningen 28.09.2023
DTSTART;TZID=Europe/Berlin:20230928T183000
DTEND;TZID=Europe/Berlin:20230928T203000
LOCATION:Ernst-Bauer-Platz
GEO:48.767420;8.935672
URL;VALUE=URI:https://criticalmass.in/renningen/2023-09-28
END:VEVENT
END:VCALENDAR
