BEGIN:VCALENDAR
VERSION:2.0
PRODID:-//Sabre//Sabre VObject 4.5.8//EN
CALSCALE:GREGORIAN
BEGIN:VEVENT
UID:criticalmass-one-renningen-1669311000
DTSTAMP:20260422T202500Z
SUMMARY:Critical Mass Renningen 24.11.2022
DTSTART;TZID=Europe/Berlin:20221124T183000
DTEND;TZID=Europe/Berlin:20221124T203000
LOCATION:Ernst-Bauer-Platz
GEO:48.767420;8.935672
URL;VALUE=URI:https://criticalmass.in/renningen/2022-11-24
END:VEVENT
END:VCALENDAR
