BEGIN:VCALENDAR
VERSION:2.0
PRODID:-//Sabre//Sabre VObject 4.5.8//EN
CALSCALE:GREGORIAN
BEGIN:VEVENT
UID:criticalmass-one-remscheid-1714910400
DTSTAMP:20260423T065042Z
SUMMARY:Kidical Mass Remscheid 05.05.2024
DTSTART;TZID=Europe/Berlin:20240505T140000
DTEND;TZID=Europe/Berlin:20240505T160000
LOCATION:Remscheid Bahnhof Lennep
GEO:51.190361;7.253706
URL;VALUE=URI:https://criticalmass.in/remscheid/kidical-mass-remscheid-mai-
 2024
END:VEVENT
END:VCALENDAR
