BEGIN:VCALENDAR
VERSION:2.0
PRODID:-//Sabre//Sabre VObject 4.5.8//EN
CALSCALE:GREGORIAN
BEGIN:VEVENT
UID:criticalmass-one-remscheid-1683365400
DTSTAMP:20260423T203950Z
SUMMARY:Kidical Mass Remscheid 06.05.2023
DTSTART;TZID=Europe/Berlin:20230506T113000
DTEND;TZID=Europe/Berlin:20230506T133000
LOCATION:Sternwarte Remscheid
GEO:51.178742;7.189696
URL;VALUE=URI:https://criticalmass.in/remscheid/kidical-mass-remscheid-mai-
 2023
END:VEVENT
END:VCALENDAR
