BEGIN:VCALENDAR
VERSION:2.0
PRODID:-//Sabre//Sabre VObject 4.5.8//EN
CALSCALE:GREGORIAN
BEGIN:VEVENT
UID:criticalmass-one-redding-1769803200
DTSTAMP:20260423T194854Z
SUMMARY:Alex Pretti Memorial Ride — Shasta Cascade Brevet
DESCRIPTION:Riding on FRIDAY January 30th at noon\nMeet at Chain Gang Bike 
 Shop
DTSTART;TZID=America/Los_Angeles:20260130T120000
DTEND;TZID=America/Los_Angeles:20260130T140000
LOCATION:Chain Gang Bike Shop\, Redding
GEO:40.586678;-122.394014
URL;VALUE=URI:https://criticalmass.in/redding/alex-pretti-memorial-ride-red
 ding-2026-01-30
END:VEVENT
END:VCALENDAR
