BEGIN:VCALENDAR
VERSION:2.0
PRODID:-//Sabre//Sabre VObject 4.5.8//EN
CALSCALE:GREGORIAN
BEGIN:VEVENT
UID:criticalmass-one-ravensburg-1584882000
DTSTAMP:20260424T200714Z
SUMMARY:Kidical Mass Schussental
DESCRIPTION:Wir machen mit beim bundesweiten Aktionstag "Kinder aufs Rad" -
  kommt vorbei\, radelt mit und genießt den Nachmittag beim Kidical-Fahrra
 d-Fest im Stadtgarten in Weingarten.
DTSTART;TZID=Europe/Berlin:20200322T140000
DTEND;TZID=Europe/Berlin:20200322T160000
LOCATION:Parkplatz Gewerbl Schule (Gartenstraße 128\, Ravensburg)
GEO:47.795000;9.626000
URL;VALUE=URI:https://criticalmass.in/ravensburg/kidical-mass-schussental-m
 aerz-2020
END:VEVENT
END:VCALENDAR
