BEGIN:VCALENDAR
VERSION:2.0
PRODID:-//Sabre//Sabre VObject 4.5.8//EN
CALSCALE:GREGORIAN
BEGIN:VEVENT
UID:criticalmass-one-ravensburg-1714910400
DTSTAMP:20260422T103405Z
SUMMARY:Kidical Mass Ravensburg 05.05.2024
DESCRIPTION:KidicalMass: Kinder-Fahrraddemo mit anschließenden Fahrradfest
 /-Picknick.
DTSTART;TZID=Europe/Berlin:20240505T140000
DTEND;TZID=Europe/Berlin:20240505T160000
LOCATION:Ravensburg Marienplatz
GEO:47.781552;9.613676
URL;VALUE=URI:https://criticalmass.in/ravensburg/kidical-mass-ravensburg-ma
 i-2024
END:VEVENT
END:VCALENDAR
