BEGIN:VCALENDAR
VERSION:2.0
PRODID:-//Sabre//Sabre VObject 4.5.8//EN
CALSCALE:GREGORIAN
BEGIN:VEVENT
UID:criticalmass-one-ravensburg-1672416000
DTSTAMP:20260424T104620Z
SUMMARY:Critical Mass Schussental 30.12.2022
DTSTART;TZID=Europe/Berlin:20221230T170000
DTEND;TZID=Europe/Berlin:20221230T190000
LOCATION:Ungerade Monate RV Untertor\, gerade Monate WGT Stadtgarten
GEO:47.781479;9.609336
URL;VALUE=URI:https://criticalmass.in/ravensburg/2022-12-30
END:VEVENT
END:VCALENDAR
