BEGIN:VCALENDAR
VERSION:2.0
PRODID:-//Sabre//Sabre VObject 4.5.8//EN
CALSCALE:GREGORIAN
BEGIN:VEVENT
UID:criticalmass-one-ravensburg-1645804800
DTSTAMP:20260423T192652Z
SUMMARY:Critical Mass Schussental 25.02.2022
DTSTART;TZID=Europe/Berlin:20220225T170000
DTEND;TZID=Europe/Berlin:20220225T190000
LOCATION:Ungerade Monate RV Untertor\, gerade Monate WGT Stadtgarten
GEO:47.781479;9.609336
URL;VALUE=URI:https://criticalmass.in/ravensburg/2022-02-25
END:VEVENT
END:VCALENDAR
