BEGIN:VCALENDAR
VERSION:2.0
PRODID:-//Sabre//Sabre VObject 4.5.8//EN
CALSCALE:GREGORIAN
BEGIN:VEVENT
UID:criticalmass-one-ravensburg-1640966400
DTSTAMP:20260424T180937Z
SUMMARY:Critical Mass Schussental 31.12.2021
DTSTART;TZID=Europe/Berlin:20211231T170000
DTEND;TZID=Europe/Berlin:20211231T190000
LOCATION:Ungerade Monate RV Untertor\, gerade Monate WGT Stadtgarten
GEO:47.781479;9.609336
URL;VALUE=URI:https://criticalmass.in/ravensburg/2021-12-31
END:VEVENT
END:VCALENDAR
