BEGIN:VCALENDAR
VERSION:2.0
PRODID:-//Sabre//Sabre VObject 4.5.8//EN
CALSCALE:GREGORIAN
BEGIN:VEVENT
UID:criticalmass-one-ravensburg-1637942400
DTSTAMP:20260422T001437Z
SUMMARY:Critical Mass Schussental 26.11.2021
DTSTART;TZID=Europe/Berlin:20211126T170000
DTEND;TZID=Europe/Berlin:20211126T190000
LOCATION:Ungerade Monate RV Untertor\, gerade Monate WGT Stadtgarten
GEO:47.781479;9.609336
URL;VALUE=URI:https://criticalmass.in/ravensburg/2021-11-26
END:VEVENT
END:VCALENDAR
