BEGIN:VCALENDAR
VERSION:2.0
PRODID:-//Sabre//Sabre VObject 4.5.8//EN
CALSCALE:GREGORIAN
BEGIN:VEVENT
UID:criticalmass-one-ravensburg-1624633200
DTSTAMP:20260422T100338Z
SUMMARY:Critical Mass Schussental
DTSTART;TZID=Europe/Berlin:20210625T170000
DTEND;TZID=Europe/Berlin:20210625T190000
LOCATION:Stadtgarten Weingarten
GEO:47.807664;9.639516
URL;VALUE=URI:https://criticalmass.in/ravensburg/2021-06-25
END:VEVENT
END:VCALENDAR
