BEGIN:VCALENDAR
VERSION:2.0
PRODID:-//Sabre//Sabre VObject 4.5.8//EN
CALSCALE:GREGORIAN
BEGIN:VEVENT
UID:criticalmass-one-ravensburg-1601046000
DTSTAMP:20260422T231140Z
SUMMARY:Critical Mass Schussental 25.09.2020
DTSTART;TZID=Europe/Berlin:20200925T170000
DTEND;TZID=Europe/Berlin:20200925T190000
LOCATION:Ungerade Monate RV Untertor\, gerade Monate WGT Stadtgarten
URL;VALUE=URI:https://criticalmass.in/ravensburg/2020-09-25
END:VEVENT
END:VCALENDAR
