BEGIN:VCALENDAR
VERSION:2.0
PRODID:-//Sabre//Sabre VObject 4.5.8//EN
CALSCALE:GREGORIAN
BEGIN:VEVENT
UID:criticalmass-one-ravensburg-1575043200
DTSTAMP:20260423T064907Z
SUMMARY:Critical Mass November 2019
DTSTART;TZID=Europe/Berlin:20191129T170000
DTEND;TZID=Europe/Berlin:20191129T190000
LOCATION:Untertor Ravensburg
URL;VALUE=URI:https://criticalmass.in/ravensburg/2019-11-29
END:VEVENT
END:VCALENDAR
