BEGIN:VCALENDAR
VERSION:2.0
PRODID:-//Sabre//Sabre VObject 4.5.8//EN
CALSCALE:GREGORIAN
BEGIN:VEVENT
UID:criticalmass-one-ravensburg-1564153200
DTSTAMP:20260422T150350Z
SUMMARY:Critical Mass Schussental 26.07.2019
DESCRIPTION:Wir fahren vom Untertor den direkten Weg nach Weingarten und we
 iter bis Baienfurt\, ca. 6\,1 km. After Mass im Hoftheater in Baienfurt.
DTSTART;TZID=Europe/Berlin:20190726T170000
DTEND;TZID=Europe/Berlin:20190726T190000
LOCATION:Untertor in Ravensburg
GEO:47.781630;9.608896
URL;VALUE=URI:https://criticalmass.in/ravensburg/2019-07-26
END:VEVENT
END:VCALENDAR
