BEGIN:VCALENDAR
VERSION:2.0
PRODID:-//Sabre//Sabre VObject 4.5.8//EN
CALSCALE:GREGORIAN
BEGIN:VEVENT
UID:criticalmass-one-ravensburg-1556290800
DTSTAMP:20260423T064926Z
SUMMARY:Critical Mass Schussental
DESCRIPTION:Wir fahren bei der zweiten Critical Mass von Weingarten nach Ra
 vensburg
DTSTART;TZID=Europe/Berlin:20190426T170000
DTEND;TZID=Europe/Berlin:20190426T190000
LOCATION:Stadtgarten Weingarten
GEO:47.807419;9.639473
URL;VALUE=URI:https://criticalmass.in/ravensburg/2019-04-26
END:VEVENT
END:VCALENDAR
