BEGIN:VCALENDAR
VERSION:2.0
PRODID:-//Sabre//Sabre VObject 4.5.8//EN
CALSCALE:GREGORIAN
BEGIN:VEVENT
UID:criticalmass-one-ravensburg-1553875200
DTSTAMP:20260422T225928Z
SUMMARY:Critical Mass Schussental
DESCRIPTION:Erste Critical Mass Schussental! Kommt und mach die CRITICAL MA
 SS groß!
DTSTART;TZID=Europe/Berlin:20190329T170000
DTEND;TZID=Europe/Berlin:20190329T190000
LOCATION:Untertor Ravensburg
GEO:47.781558;9.609025
URL;VALUE=URI:https://criticalmass.in/ravensburg/2019-03-29
END:VEVENT
END:VCALENDAR
