BEGIN:VCALENDAR
VERSION:2.0
PRODID:-//Sabre//Sabre VObject 4.5.8//EN
CALSCALE:GREGORIAN
BEGIN:VEVENT
UID:criticalmass-one-ratingen-1598630400
DTSTAMP:20260425T002305Z
SUMMARY:"Critical Mass" in Ratingen
DESCRIPTION:Regelmäßig am letzten Freitag des Monats ab 18:00 Uhr findet 
 in Ratingen eine Critical-Mass statt.\nWo? - Treffpunkt: Rathausvorplatz
DTSTART;TZID=Europe/Berlin:20200828T180000
DTEND;TZID=Europe/Berlin:20200828T200000
LOCATION:Rathausvorplatz
GEO:51.297128;6.847765
URL;VALUE=URI:https://criticalmass.in/ratingen/2020-08-28
END:VEVENT
END:VCALENDAR
