BEGIN:VCALENDAR
VERSION:2.0
PRODID:-//Sabre//Sabre VObject 4.5.8//EN
CALSCALE:GREGORIAN
BEGIN:VEVENT
UID:criticalmass-one-rathenow-1664110800
DTSTAMP:20260424T042557Z
SUMMARY:Kidical Mass Rathenow 25.09.2022
DTSTART;TZID=Europe/Berlin:20220925T150000
DTEND;TZID=Europe/Berlin:20220925T170000
LOCATION:Märkischer Platz
GEO:52.605870;12.341981
URL;VALUE=URI:https://criticalmass.in/rathenow/kidical-mass-rathenow-septem
 ber-2022
END:VEVENT
END:VCALENDAR
