BEGIN:VCALENDAR
VERSION:2.0
PRODID:-//Sabre//Sabre VObject 4.5.8//EN
CALSCALE:GREGORIAN
BEGIN:VEVENT
UID:criticalmass-one-rathenow-1632056400
DTSTAMP:20260421T163213Z
SUMMARY:Kidical Mass Rathenow 19.09.2021
DTSTART;TZID=Europe/Berlin:20210919T150000
DTEND;TZID=Europe/Berlin:20210919T170000
LOCATION:Am alten Hafen
GEO:52.606335;12.335183
URL;VALUE=URI:https://criticalmass.in/rathenow/kidical-mass-rathenow-septem
 ber-2021
END:VEVENT
END:VCALENDAR
