BEGIN:VCALENDAR
VERSION:2.0
PRODID:-//Sabre//Sabre VObject 4.5.8//EN
CALSCALE:GREGORIAN
BEGIN:VEVENT
UID:criticalmass-one-rastatt-1593187200
DTSTAMP:20260424T180420Z
SUMMARY:1. Critical Mass in Rastatt
DESCRIPTION:1. Critical Mass in Rastatt am 26.06.2020
DTSTART;TZID=Europe/Berlin:20200626T180000
DTEND;TZID=Europe/Berlin:20200626T200000
LOCATION:Paradeplatz
GEO:48.858867;8.201396
URL;VALUE=URI:https://criticalmass.in/rastatt/2020-06-26
END:VEVENT
END:VCALENDAR
