BEGIN:VCALENDAR
VERSION:2.0
PRODID:-//Sabre//Sabre VObject 4.5.8//EN
CALSCALE:GREGORIAN
BEGIN:VEVENT
UID:criticalmass-one-providence-1769864400
DTSTAMP:20260422T140159Z
SUMMARY:Alex Pretti Memorial Ride — Providence Bike Jam
DESCRIPTION:On Jan 31 at 1:00pm meet up on this national day of action. Rid
 e leaves at 1:30
DTSTART;TZID=America/New_York:20260131T080000
DTEND;TZID=America/New_York:20260131T100000
LOCATION:Providence
GEO:41.825534;-71.412145
URL;VALUE=URI:https://criticalmass.in/providence/alex-pretti-memorial-ride-
 providence-2026-01-31
END:VEVENT
END:VCALENDAR
