BEGIN:VCALENDAR
VERSION:2.0
PRODID:-//Sabre//Sabre VObject 4.5.8//EN
CALSCALE:GREGORIAN
BEGIN:VEVENT
UID:criticalmass-one-preetz-1684656000
DTSTAMP:20260424T130820Z
SUMMARY:Kidical Mass Preetz 21.05.2023
DTSTART;TZID=Europe/Berlin:20230521T100000
DTEND;TZID=Europe/Berlin:20230521T120000
LOCATION:Marktplatz
GEO:54.232759;10.278272
URL;VALUE=URI:https://criticalmass.in/preetz/kidical-mass-preetz-mai-2023
END:VEVENT
END:VCALENDAR
