BEGIN:VCALENDAR
VERSION:2.0
PRODID:-//Sabre//Sabre VObject 4.5.8//EN
CALSCALE:GREGORIAN
BEGIN:VEVENT
UID:criticalmass-one-potsdam-1725640200
DTSTAMP:20260424T232647Z
SUMMARY:Critical Mass Potsdam 06.09.2024
DTSTART;TZID=Europe/Berlin:20240906T183000
DTEND;TZID=Europe/Berlin:20240906T203000
LOCATION:Luisenplatz
GEO:52.399414;13.047200
URL;VALUE=URI:https://criticalmass.in/potsdam/2024-09-06
END:VEVENT
END:VCALENDAR
