BEGIN:VCALENDAR
VERSION:2.0
PRODID:-//Sabre//Sabre VObject 4.5.8//EN
CALSCALE:GREGORIAN
BEGIN:VEVENT
UID:criticalmass-one-portland-1769868000
DTSTAMP:20260421T133422Z
SUMMARY:Alex Pretti Memorial Ride — Golden Pliers
DESCRIPTION:Meet on Saturday\, January 31st. Irving Park. 2 p.m. meet up\, 
 2:30 p.m. roll out.
DTSTART;TZID=America/Los_Angeles:20260131T060000
DTEND;TZID=America/Los_Angeles:20260131T080000
LOCATION:Irving Park\, Portland
GEO:45.547138;-122.656777
URL;VALUE=URI:https://criticalmass.in/portland/alex-pretti-memorial-ride-po
 rtland-2026-01-31
END:VEVENT
END:VCALENDAR
