BEGIN:VCALENDAR
VERSION:2.0
PRODID:-//Sabre//Sabre VObject 4.5.8//EN
CALSCALE:GREGORIAN
BEGIN:VEVENT
UID:criticalmass-one-pocatello-1769871600
DTSTAMP:20260424T132111Z
SUMMARY:Alex Pretti Memorial Ride — Oregon Trail Bikes
DESCRIPTION:This Saturday: Meet at Oregon Trail Bikes at 3 p.m. for a 3:30 
 p.m. roll-out. 
DTSTART;TZID=America/Boise:20260131T080000
DTEND;TZID=America/Boise:20260131T100000
LOCATION:Oregon Trail Bikes\, Pocatello
GEO:42.865685;-112.447558
URL;VALUE=URI:https://criticalmass.in/pocatello/alex-pretti-memorial-ride-p
 ocatello-2026-01-31
END:VEVENT
END:VCALENDAR
