BEGIN:VCALENDAR
VERSION:2.0
PRODID:-//Sabre//Sabre VObject 4.5.8//EN
CALSCALE:GREGORIAN
BEGIN:VEVENT
UID:criticalmass-one-plochingen-1585328400
DTSTAMP:20260423T143334Z
SUMMARY:Critical Mass Plochingen 27.03.2020
DTSTART;TZID=Europe/Berlin:20200327T180000
DTEND;TZID=Europe/Berlin:20200327T200000
LOCATION:Bahnhof
GEO:48.713194;9.411979
URL;VALUE=URI:https://criticalmass.in/plochingen/2020-03-27
END:VEVENT
END:VCALENDAR
