BEGIN:VCALENDAR
VERSION:2.0
PRODID:-//Sabre//Sabre VObject 4.5.8//EN
CALSCALE:GREGORIAN
BEGIN:VEVENT
UID:criticalmass-one-pittsburgh-1786140000
DTSTAMP:20260423T071443Z
SUMMARY:Critical Mass Pittsburgh 07.08.2026
DTSTART;TZID=America/New_York:20260807T180000
DTEND;TZID=America/New_York:20260807T200000
LOCATION:Friendship Park
GEO:40.462575;-79.946189
URL;VALUE=URI:https://criticalmass.in/pittsburgh/2026-08-07
END:VEVENT
END:VCALENDAR
