BEGIN:VCALENDAR
VERSION:2.0
PRODID:-//Sabre//Sabre VObject 4.5.8//EN
CALSCALE:GREGORIAN
BEGIN:VEVENT
UID:criticalmass-one-pittsburgh-1781301600
DTSTAMP:20260421T084016Z
SUMMARY:Critical Mass Pittsburgh 12.06.2026
DTSTART;TZID=America/New_York:20260612T180000
DTEND;TZID=America/New_York:20260612T200000
LOCATION:Friendship Park
GEO:40.462575;-79.946189
URL;VALUE=URI:https://criticalmass.in/pittsburgh/2026-06-12
END:VEVENT
END:VCALENDAR
