BEGIN:VCALENDAR
VERSION:2.0
PRODID:-//Sabre//Sabre VObject 4.5.8//EN
CALSCALE:GREGORIAN
BEGIN:VEVENT
UID:criticalmass-one-pittsburgh-1773439200
DTSTAMP:20260421T100522Z
SUMMARY:Critical Mass Pittsburgh 13.03.2026
DTSTART;TZID=America/New_York:20260313T180000
DTEND;TZID=America/New_York:20260313T200000
LOCATION:Friendship Park
GEO:40.462575;-79.946189
URL;VALUE=URI:https://criticalmass.in/pittsburgh/2026-03-13
END:VEVENT
END:VCALENDAR
