BEGIN:VCALENDAR
VERSION:2.0
PRODID:-//Sabre//Sabre VObject 4.5.8//EN
CALSCALE:GREGORIAN
BEGIN:VEVENT
UID:criticalmass-one-pinneberg-1760115600
DTSTAMP:20260425T195850Z
SUMMARY:Critical Mass Pinneberg 10.10.2025
DTSTART;TZID=Europe/Berlin:20251010T190000
DTEND;TZID=Europe/Berlin:20251010T210000
LOCATION:Drosteiplatz\, Pinneberg
GEO:53.661108;9.796428
URL;VALUE=URI:https://criticalmass.in/pinneberg/2025-10-10
END:VEVENT
END:VCALENDAR
