BEGIN:VCALENDAR
VERSION:2.0
PRODID:-//Sabre//Sabre VObject 4.5.8//EN
CALSCALE:GREGORIAN
BEGIN:VEVENT
UID:criticalmass-one-pinneberg-1746810000
DTSTAMP:20260425T105519Z
SUMMARY:Critical Mass Pinneberg 09.05.2025
DTSTART;TZID=Europe/Berlin:20250509T190000
DTEND;TZID=Europe/Berlin:20250509T210000
LOCATION:Drosteiplatz\, Pinneberg
GEO:53.661108;9.796428
URL;VALUE=URI:https://criticalmass.in/pinneberg/2025-05-09
END:VEVENT
END:VCALENDAR
