BEGIN:VCALENDAR
VERSION:2.0
PRODID:-//Sabre//Sabre VObject 4.5.8//EN
CALSCALE:GREGORIAN
BEGIN:VEVENT
UID:criticalmass-one-pinneberg-1678467600
DTSTAMP:20260425T105534Z
SUMMARY:Critical Mass Pinneberg 10.03.2023
DTSTART;TZID=Europe/Berlin:20230310T180000
DTEND;TZID=Europe/Berlin:20230310T200000
LOCATION:Drosteiplatz\, Pinneberg
GEO:53.661307;9.796650
URL;VALUE=URI:https://criticalmass.in/pinneberg/2023-03-10
END:VEVENT
END:VCALENDAR
