BEGIN:VCALENDAR
VERSION:2.0
PRODID:-//Sabre//Sabre VObject 4.5.8//EN
CALSCALE:GREGORIAN
BEGIN:VEVENT
UID:criticalmass-one-pinneberg-1657296000
DTSTAMP:20260425T164822Z
SUMMARY:Critical Mass Pinneberg 08.07.2022
DTSTART;TZID=Europe/Berlin:20220708T180000
DTEND;TZID=Europe/Berlin:20220708T200000
LOCATION:Drosteiplatz\, Pinneberg
GEO:53.661272;9.796650
URL;VALUE=URI:https://criticalmass.in/pinneberg/2022-07-08
END:VEVENT
END:VCALENDAR
