BEGIN:VCALENDAR
VERSION:2.0
PRODID:-//Sabre//Sabre VObject 4.5.8//EN
CALSCALE:GREGORIAN
BEGIN:VEVENT
UID:criticalmass-one-phoenix-1769864400
DTSTAMP:20260422T223549Z
SUMMARY:Alex Pretti Memorial Ride — PHXFold
DESCRIPTION:Join us Saturday\, Jan 31st at Hance Park (Downtown Phoenix) at
  1 p.m. Roll-out at 1:30 p.m.
DTSTART;TZID=America/Phoenix:20260131T060000
DTEND;TZID=America/Phoenix:20260131T080000
LOCATION:Hance Park\, Phoenix
GEO:33.462220;-112.076095
URL;VALUE=URI:https://criticalmass.in/phoenix/alex-pretti-memorial-ride-pho
 enix-2026-01-31
END:VEVENT
END:VCALENDAR
