BEGIN:VCALENDAR
VERSION:2.0
PRODID:-//Sabre//Sabre VObject 4.5.8//EN
CALSCALE:GREGORIAN
BEGIN:VEVENT
UID:criticalmass-one-philadelphia-1769868000
DTSTAMP:20260422T044948Z
SUMMARY:Alex Pretti Memorial Ride — Damp Roads Cycling Club
DESCRIPTION:Meet at the front steps of the Art Museum at 2 p.m. EST.
DTSTART;TZID=America/New_York:20260131T090000
DTEND;TZID=America/New_York:20260131T110000
LOCATION:Art Museum front steps\, Philadelphia
GEO:39.964805;-75.179878
URL;VALUE=URI:https://criticalmass.in/philadelphia/alex-pretti-memorial-rid
 e-philadelphia-2026-01-31
END:VEVENT
END:VCALENDAR
