BEGIN:VCALENDAR
VERSION:2.0
PRODID:-//Sabre//Sabre VObject 4.5.8//EN
CALSCALE:GREGORIAN
BEGIN:VEVENT
UID:criticalmass-one-pforzheim-1758358800
DTSTAMP:20260425T030145Z
SUMMARY:Kidical Mass Pforzheim 20.09.2025
DESCRIPTION:Am Weltkindertag fahren wir durch die Stadt Pforzheim\, begleit
 et von der Polizei und fordern bessere\, mehr und kindgerechte Fahrradwege
 . Gemeinsam mit über 300 Mitradelnden sind wir laut\, bunt und setzen ein
  positives Zeichen!\nUnd am Zielort veranstalten wir das Kindermarktplatzf
 est und -musikfestival auf dem Marktplatz. Das wird riesig\, mit coolen Ki
 nderbands\, Aktionen rund um Kinderrechte und jeder Menge Mitmachangebote 
 - vom Bobbycarrennen über Hüpfburgen bis hin zum Spielmobil. Und ab 09:3
 0 Uhr könnt ihr schon zum Waisenhausplatz kommen und eurer Fahrrad schmü
 cken - es gibt tolle Preise!
DTSTART;TZID=Europe/Berlin:20250920T110000
DTEND;TZID=Europe/Berlin:20250920T130000
LOCATION:Pforzheim Waisenhausplatz
GEO:48.889978;8.702088
URL;VALUE=URI:https://criticalmass.in/pforzheim/kidical-mass-pforzheim-sept
 ember-2025
END:VEVENT
END:VCALENDAR
