BEGIN:VCALENDAR
VERSION:2.0
PRODID:-//Sabre//Sabre VObject 4.5.8//EN
CALSCALE:GREGORIAN
BEGIN:VEVENT
UID:criticalmass-one-pforzheim-1726909200
DTSTAMP:20260423T135430Z
SUMMARY:Kidical Mass Pforzheim 21.09.2024
DESCRIPTION:Dieses Mal fahren wir zum Brötzinger Kinderfest\, das mit jede
 r Menge Spielaktionen und Mitmachaktionen aufwartet! Auch für das leiblic
 he Wohl wird natürlich gesorgt sein.\nFahrradpreis „Nice-Bike“:Ab 9:3
 0 Uhr könnt ihr coole Plakate gestalten und euer Rad zum Hingucker der Ki
 dical Mass machen.
DTSTART;TZID=Europe/Berlin:20240921T110000
DTEND;TZID=Europe/Berlin:20240921T130000
LOCATION:Pforzheim Waisenhausplatz
GEO:48.889972;8.702087
URL;VALUE=URI:https://criticalmass.in/pforzheim/kidical-mass-pforzheim-sept
 ember-2024
END:VEVENT
END:VCALENDAR
