BEGIN:VCALENDAR
VERSION:2.0
PRODID:-//Sabre//Sabre VObject 4.5.8//EN
CALSCALE:GREGORIAN
BEGIN:VEVENT
UID:criticalmass-one-pforzheim-1631955600
DTSTAMP:20260423T190702Z
SUMMARY:Kidical Mass Pforzheim 18.09.2021
DTSTART;TZID=Europe/Berlin:20210918T110000
DTEND;TZID=Europe/Berlin:20210918T130000
LOCATION:am Waisenhausplatz \n(zwischen Theater und CCP)\n
URL;VALUE=URI:https://criticalmass.in/pforzheim/kidical-mass-pforzheim-sept
 ember-2021
END:VEVENT
END:VCALENDAR
