BEGIN:VCALENDAR
VERSION:2.0
PRODID:-//Sabre//Sabre VObject 4.5.8//EN
CALSCALE:GREGORIAN
BEGIN:VEVENT
UID:criticalmass-one-pforzheim-1746867600
DTSTAMP:20260422T145813Z
SUMMARY:Kidical Mass Pforzheim 10.05.2025
DESCRIPTION:👉 Treffpunkt: Waisenhausplatz\n👉 Ziel: Haus der Jugend im
  Benckieserpark\nSchon ab 09:30 Uhr könnt ihr mit uns eure Fahrräder bun
 t schmücken 🎨🚴 – und ab 11 Uhr heißt es: Gemeinsam in die Pedale
  treten für sichere und kinderfreundliche Radwege in Pforzheim!\nWie imme
 r sichert uns die Polizei wieder die Straßen.\nUnd für die Schule/Kita\,
  die die meisten Kinder mobilisieren konnte\, gibt es noch einen kleinen P
 reis! Also bringt die Klasse/Schule mit! 😀\nAm Ziel gibt’s ein buntes
  Programm mit Basteln\, kit.klimamonster\, Quiz beim Medienrad\, Fahrradch
 eck\, Snacks & ganz viel Spaß! 🛠️🎉🍟
DTSTART;TZID=Europe/Berlin:20250510T110000
DTEND;TZID=Europe/Berlin:20250510T130000
LOCATION:Pforzheim Waisenhausplatz
GEO:48.889978;8.702088
URL;VALUE=URI:https://criticalmass.in/pforzheim/kidical-mass-pforzheim-mai-
 2025
END:VEVENT
END:VCALENDAR
