BEGIN:VCALENDAR
VERSION:2.0
PRODID:-//Sabre//Sabre VObject 4.5.8//EN
CALSCALE:GREGORIAN
BEGIN:VEVENT
UID:criticalmass-one-pforzheim-1683363600
DTSTAMP:20260422T145708Z
SUMMARY:Kidical Mass Pforzheim 06.05.2023
DTSTART;TZID=Europe/Berlin:20230506T110000
DTEND;TZID=Europe/Berlin:20230506T130000
LOCATION:Waisenhausplatz
GEO:48.890108;8.702093
URL;VALUE=URI:https://criticalmass.in/pforzheim/kidical-mass-pforzheim-mai-
 2023
END:VEVENT
END:VCALENDAR
