BEGIN:VCALENDAR
VERSION:2.0
PRODID:-//Sabre//Sabre VObject 4.5.8//EN
CALSCALE:GREGORIAN
BEGIN:VEVENT
UID:criticalmass-one-pforzheim-1714208400
DTSTAMP:20260422T145753Z
SUMMARY:Kidical Mass Pforzheim 27.04.2024
DESCRIPTION:Dieses Mal fahren wir vom Waisenhausplatz zum Lukas-Zentrum in 
 der Maximilianstraße. \nAlle mitfahrenden Kinder bekommen einen kostenlos
 en Crèpes von "La petite Creperie" und können ihre Pizza selber backen. 
 Neben Spielen und Mitmachangeboten können alle bei Kaffee & Kuchen entspa
 nnt zusammensitzen.
DTSTART;TZID=Europe/Berlin:20240427T110000
DTEND;TZID=Europe/Berlin:20240427T130000
LOCATION:Pforzheim Waisenhausplatz Pforzheim
GEO:48.889974;8.702327
URL;VALUE=URI:https://criticalmass.in/pforzheim/kidical-mass-pforzheim-apri
 l-2024
END:VEVENT
END:VCALENDAR
