BEGIN:VCALENDAR
VERSION:2.0
PRODID:-//Sabre//Sabre VObject 4.5.8//EN
CALSCALE:GREGORIAN
BEGIN:VEVENT
UID:criticalmass-one-pforzheim-1688144400
DTSTAMP:20260422T104942Z
SUMMARY:Critical Mass Pforzheim 30.06.2023
DTSTART;TZID=Europe/Berlin:20230630T190000
DTEND;TZID=Europe/Berlin:20230630T210000
LOCATION:Waisenhausplatz
GEO:48.889665;8.701633
URL;VALUE=URI:https://criticalmass.in/pforzheim/2023-06-30
END:VEVENT
END:VCALENDAR
