BEGIN:VCALENDAR
VERSION:2.0
PRODID:-//Sabre//Sabre VObject 4.5.8//EN
CALSCALE:GREGORIAN
BEGIN:VEVENT
UID:criticalmass-one-pforzheim-1682701200
DTSTAMP:20260423T113645Z
SUMMARY:Critical Mass Pforzheim 28.04.2023
DTSTART;TZID=Europe/Berlin:20230428T190000
DTEND;TZID=Europe/Berlin:20230428T210000
LOCATION:Waisenhausplatz
GEO:48.889665;8.701633
URL;VALUE=URI:https://criticalmass.in/pforzheim/2023-04-28
END:VEVENT
END:VCALENDAR
