BEGIN:VCALENDAR
VERSION:2.0
PRODID:-//Sabre//Sabre VObject 4.5.8//EN
CALSCALE:GREGORIAN
BEGIN:VEVENT
UID:criticalmass-one-pforzheim-1624640400
DTSTAMP:20260422T202427Z
SUMMARY:Critical Mass Pforzheim 25.06.2021
DTSTART;TZID=Europe/Berlin:20210625T190000
DTEND;TZID=Europe/Berlin:20210625T210000
LOCATION:Waisenhausplatz
GEO:48.889665;8.701633
URL;VALUE=URI:https://criticalmass.in/pforzheim/2021-06-25
END:VEVENT
END:VCALENDAR
