BEGIN:VCALENDAR
VERSION:2.0
PRODID:-//Sabre//Sabre VObject 4.5.8//EN
CALSCALE:GREGORIAN
BEGIN:VEVENT
UID:criticalmass-one-pforzheim-1619794800
DTSTAMP:20260424T104932Z
SUMMARY:Critical Mass Pforzheim 30.04.2021
DTSTART;TZID=Europe/Berlin:20210430T170000
DTEND;TZID=Europe/Berlin:20210430T190000
LOCATION:Waisenhausplatz
GEO:48.889665;8.701633
URL;VALUE=URI:https://criticalmass.in/pforzheim/2021-04-30
END:VEVENT
END:VCALENDAR
